BEGIN:VCALENDAR
VERSION:2.0
PRODID:-//hacksw/handcal//NONSGML v1.0//EN
BEGIN:VEVENT
UID:vari_event_74
DTSTAMP:20250622T000000Z
ORGANIZER:www.vari.cz
DTSTART:20250622T000000Z
DTEND:20250624T235959Z
SUMMARY:Demopark 2025
DESCRIPTION:You are cordially invited to the biggest garden machinery exhibition "DEMOPARK" which takes place in Eisenach, Germany.
LOCATION:Eisenach, Germany
GEO:
END:VEVENT
END:VCALENDAR
