BEGIN:VCALENDAR
VERSION:2.0
PRODID:-//hacksw/handcal//NONSGML v1.0//EN
BEGIN:VEVENT
UID:vari_event_63
DTSTAMP:20250626T090000Z
ORGANIZER:www.vari.cz
DTSTART:20250626T090000Z
DTEND:20250626T180000Z
SUMMARY:Kralovická zemědělská výstava na Hadačce
DESCRIPTION:Srdečně Vás zveme na tradiční již 50. ročník zemědělské výstavy na Hadačce, která se koná v areálu Kralovické zemědělské a.s.
LOCATION:Tyršova 560, 331 41 Kralovice
GEO:
END:VEVENT
END:VCALENDAR
