BEGIN:VCALENDAR
VERSION:2.0
PRODID:-//hacksw/handcal//NONSGML v1.0//EN
BEGIN:VEVENT
UID:vari_event_93
DTSTAMP:20260424T100000Z
ORGANIZER:www.vari.cz
DTSTART:20260424T100000Z
DTEND:20260424T170000Z
SUMMARY:Rodinný den s CIME
DESCRIPTION:Srdečně vás zveme na RODINNÝ DEN S CIME aneb Den zahradní a komunální techniky, který se koná v pátek 24.4.2026 od 10 do 17 hod. u rybníku Stráž v Pelhřimově. 
LOCATION:Rybník Stráž,&nbsp;&nbsp;Pelhřimov
GEO:
END:VEVENT
END:VCALENDAR
